BEGIN:VCALENDAR
VERSION:2.0
PRODID:-//The Sum of the Parts (music) - ECPv6.15.13//NONSGML v1.0//EN
CALSCALE:GREGORIAN
METHOD:PUBLISH
X-ORIGINAL-URL:https://www.thesumoftheparts.com.au
X-WR-CALDESC:Events for The Sum of the Parts (music)
REFRESH-INTERVAL;VALUE=DURATION:PT1H
X-Robots-Tag:noindex
X-PUBLISHED-TTL:PT1H
BEGIN:VTIMEZONE
TZID:Australia/Melbourne
BEGIN:STANDARD
TZOFFSETFROM:+1100
TZOFFSETTO:+1000
TZNAME:AEST
DTSTART:20160402T160000
END:STANDARD
BEGIN:DAYLIGHT
TZOFFSETFROM:+1000
TZOFFSETTO:+1100
TZNAME:AEDT
DTSTART:20161001T160000
END:DAYLIGHT
BEGIN:STANDARD
TZOFFSETFROM:+1100
TZOFFSETTO:+1000
TZNAME:AEST
DTSTART:20170401T160000
END:STANDARD
BEGIN:DAYLIGHT
TZOFFSETFROM:+1000
TZOFFSETTO:+1100
TZNAME:AEDT
DTSTART:20170930T160000
END:DAYLIGHT
BEGIN:STANDARD
TZOFFSETFROM:+1100
TZOFFSETTO:+1000
TZNAME:AEST
DTSTART:20180331T160000
END:STANDARD
BEGIN:DAYLIGHT
TZOFFSETFROM:+1000
TZOFFSETTO:+1100
TZNAME:AEDT
DTSTART:20181006T160000
END:DAYLIGHT
BEGIN:STANDARD
TZOFFSETFROM:+1100
TZOFFSETTO:+1000
TZNAME:AEST
DTSTART:20190406T160000
END:STANDARD
BEGIN:DAYLIGHT
TZOFFSETFROM:+1000
TZOFFSETTO:+1100
TZNAME:AEDT
DTSTART:20191005T160000
END:DAYLIGHT
END:VTIMEZONE
BEGIN:VEVENT
DTSTART;TZID=Australia/Melbourne:20180520T160000
DTEND;TZID=Australia/Melbourne:20180520T171700
DTSTAMP:20260420T094830
CREATED:20180518T084506Z
LAST-MODIFIED:20180518T084506Z
UID:7443-1526832000-1526836620@www.thesumoftheparts.com.au
SUMMARY:One Song Sing - Never Tear Us Apart
DESCRIPTION:
URL:https://www.thesumoftheparts.com.au/event/one-song-sing-never-tear-us-apart/
LOCATION:The Edwards\, 148 Parry St\, Newcastle West\, NSW\, 2302\, Australia
CATEGORIES:One Song Sing
END:VEVENT
BEGIN:VEVENT
DTSTART;TZID=Australia/Melbourne:20171015T160000
DTEND;TZID=Australia/Melbourne:20171015T173000
DTSTAMP:20260420T094830
CREATED:20171006T082227Z
LAST-MODIFIED:20171006T082227Z
UID:5978-1508083200-1508088600@www.thesumoftheparts.com.au
SUMMARY:October One Song Sing
DESCRIPTION:Throw Your Arms Around Me – more info here. \nOne Song. One Hour (ish). 7 bucks. Youtubed.
URL:https://www.thesumoftheparts.com.au/event/october-one-song-sing/
LOCATION:The Edwards\, 148 Parry St\, Newcastle West\, NSW\, 2302\, Australia
CATEGORIES:One Song Sing
END:VEVENT
END:VCALENDAR