BEGIN:VCALENDAR
VERSION:2.0
PRODID:-//The Sum of the Parts (music) - ECPv6.15.13//NONSGML v1.0//EN
CALSCALE:GREGORIAN
METHOD:PUBLISH
X-WR-CALNAME:The Sum of the Parts (music)
X-ORIGINAL-URL:https://www.thesumoftheparts.com.au
X-WR-CALDESC:Events for The Sum of the Parts (music)
REFRESH-INTERVAL;VALUE=DURATION:PT1H
X-Robots-Tag:noindex
X-PUBLISHED-TTL:PT1H
BEGIN:VTIMEZONE
TZID:Australia/Melbourne
BEGIN:STANDARD
TZOFFSETFROM:+1100
TZOFFSETTO:+1000
TZNAME:AEST
DTSTART:20160402T160000
END:STANDARD
BEGIN:DAYLIGHT
TZOFFSETFROM:+1000
TZOFFSETTO:+1100
TZNAME:AEDT
DTSTART:20161001T160000
END:DAYLIGHT
BEGIN:STANDARD
TZOFFSETFROM:+1100
TZOFFSETTO:+1000
TZNAME:AEST
DTSTART:20170401T160000
END:STANDARD
BEGIN:DAYLIGHT
TZOFFSETFROM:+1000
TZOFFSETTO:+1100
TZNAME:AEDT
DTSTART:20170930T160000
END:DAYLIGHT
BEGIN:STANDARD
TZOFFSETFROM:+1100
TZOFFSETTO:+1000
TZNAME:AEST
DTSTART:20180331T160000
END:STANDARD
BEGIN:DAYLIGHT
TZOFFSETFROM:+1000
TZOFFSETTO:+1100
TZNAME:AEDT
DTSTART:20181006T160000
END:DAYLIGHT
BEGIN:STANDARD
TZOFFSETFROM:+1100
TZOFFSETTO:+1000
TZNAME:AEST
DTSTART:20190406T160000
END:STANDARD
BEGIN:DAYLIGHT
TZOFFSETFROM:+1000
TZOFFSETTO:+1100
TZNAME:AEDT
DTSTART:20191005T160000
END:DAYLIGHT
BEGIN:STANDARD
TZOFFSETFROM:+1100
TZOFFSETTO:+1000
TZNAME:AEST
DTSTART:20200404T160000
END:STANDARD
BEGIN:DAYLIGHT
TZOFFSETFROM:+1000
TZOFFSETTO:+1100
TZNAME:AEDT
DTSTART:20201003T160000
END:DAYLIGHT
BEGIN:STANDARD
TZOFFSETFROM:+1100
TZOFFSETTO:+1000
TZNAME:AEST
DTSTART:20210403T160000
END:STANDARD
BEGIN:DAYLIGHT
TZOFFSETFROM:+1000
TZOFFSETTO:+1100
TZNAME:AEDT
DTSTART:20211002T160000
END:DAYLIGHT
BEGIN:STANDARD
TZOFFSETFROM:+1100
TZOFFSETTO:+1000
TZNAME:AEST
DTSTART:20220402T160000
END:STANDARD
BEGIN:DAYLIGHT
TZOFFSETFROM:+1000
TZOFFSETTO:+1100
TZNAME:AEDT
DTSTART:20221001T160000
END:DAYLIGHT
BEGIN:STANDARD
TZOFFSETFROM:+1100
TZOFFSETTO:+1000
TZNAME:AEST
DTSTART:20230401T160000
END:STANDARD
BEGIN:DAYLIGHT
TZOFFSETFROM:+1000
TZOFFSETTO:+1100
TZNAME:AEDT
DTSTART:20230930T160000
END:DAYLIGHT
BEGIN:STANDARD
TZOFFSETFROM:+1100
TZOFFSETTO:+1000
TZNAME:AEST
DTSTART:20240406T160000
END:STANDARD
BEGIN:DAYLIGHT
TZOFFSETFROM:+1000
TZOFFSETTO:+1100
TZNAME:AEDT
DTSTART:20241005T160000
END:DAYLIGHT
BEGIN:STANDARD
TZOFFSETFROM:+1100
TZOFFSETTO:+1000
TZNAME:AEST
DTSTART:20250405T160000
END:STANDARD
BEGIN:DAYLIGHT
TZOFFSETFROM:+1000
TZOFFSETTO:+1100
TZNAME:AEDT
DTSTART:20251004T160000
END:DAYLIGHT
END:VTIMEZONE
BEGIN:VEVENT
DTSTART;TZID=Australia/Melbourne:20240121T173000
DTEND;TZID=Australia/Melbourne:20240121T190000
DTSTAMP:20260420T064132
CREATED:20240112T051523Z
LAST-MODIFIED:20240112T051626Z
UID:15502-1705858200-1705863600@www.thesumoftheparts.com.au
SUMMARY:One Song Sing - Message to my girl
DESCRIPTION:The tickets are here!  \nThe song is sublime. \n \n  \n  \n 
URL:https://www.thesumoftheparts.com.au/event/one-song-sing-message-to-my-girl/
LOCATION:Cricketers Arms Cooks Hill\, 61 Bruce st\, Cooks Hill\, NSW\, 2300\, Australia
CATEGORIES:One Song Sing
END:VEVENT
BEGIN:VEVENT
DTSTART;TZID=Australia/Melbourne:20231221T170000
DTEND;TZID=Australia/Melbourne:20231221T183000
DTSTAMP:20260420T064132
CREATED:20231123T202033Z
LAST-MODIFIED:20231123T202238Z
UID:15340-1703178000-1703183400@www.thesumoftheparts.com.au
SUMMARY:Gravy Day One Song Sing
DESCRIPTION:Thanks to Newcastle City Council we are celebrating Gravy Day on the 21st of December. Get your free tickets here!
URL:https://www.thesumoftheparts.com.au/event/gravy-day-one-song-sing/
LOCATION:Wheeler Place\, Wheeler Place\, Newcastle\, NSW\, 2300\, Australia
CATEGORIES:One Song Sing
END:VEVENT
BEGIN:VEVENT
DTSTART;TZID=Australia/Melbourne:20200216T160000
DTEND;TZID=Australia/Melbourne:20200216T173000
DTSTAMP:20260420T064132
CREATED:20200206T065130Z
LAST-MODIFIED:20200206T065130Z
UID:9549-1581868800-1581874200@www.thesumoftheparts.com.au
SUMMARY:Body Talks - One Song Sing
DESCRIPTION:We really are gunna lay the vocal rock on this one. Please join us for this banger by Britrock band The Struts. We had to cancel back late last year because of the heat and the smoke\, but we have a renewed faith in this one really getting us to sing big. \nBook here!
URL:https://www.thesumoftheparts.com.au/event/body-talks-one-song-sing/
LOCATION:Babylon\, 145 King St\, Newcastle\, NSW\, 2300
CATEGORIES:One Song Sing
END:VEVENT
BEGIN:VEVENT
DTSTART;TZID=Australia/Melbourne:20191222T160000
DTEND;TZID=Australia/Melbourne:20191222T173000
DTSTAMP:20260420T064132
CREATED:20191214T223948Z
LAST-MODIFIED:20191214T223948Z
UID:9454-1577030400-1577035800@www.thesumoftheparts.com.au
SUMMARY:A Xmas One Song Sing - How to Make Gravy
DESCRIPTION:Our last for the year. Please join us.
URL:https://www.thesumoftheparts.com.au/event/a-xmas-one-song-sing-how-to-make-gravy/
LOCATION:Babylon\, 145 King St\, Newcastle\, NSW\, 2300
CATEGORIES:One Song Sing
END:VEVENT
BEGIN:VEVENT
DTSTART;TZID=Australia/Melbourne:20191103T160000
DTEND;TZID=Australia/Melbourne:20191103T173000
DTSTAMP:20260420T064132
CREATED:20191025T213722Z
LAST-MODIFIED:20191027T062023Z
UID:9390-1572796800-1572802200@www.thesumoftheparts.com.au
SUMMARY:Timberlake! - A One Song Sing!
DESCRIPTION:Jane is rapt. Mark is dubious. But early indications are that this Justin Timberlake song is a popular choice (1 billion youtube views can’t be all tasteless can they?). Back at Babylon\, for a dance funk fest\, with 200 piece choir. Can’t Stop the Feeling! Click the poor graphics to book.
URL:https://www.thesumoftheparts.com.au/event/timberlake-a-one-song-sing/
LOCATION:Babylon\, 145 King St\, Newcastle\, NSW\, 2300
CATEGORIES:One Song Sing
END:VEVENT
BEGIN:VEVENT
DTSTART;TZID=Australia/Melbourne:20191020T150000
DTEND;TZID=Australia/Melbourne:20191020T163000
DTSTAMP:20260420T064132
CREATED:20190923T200718Z
LAST-MODIFIED:20191008T125111Z
UID:9371-1571583600-1571589000@www.thesumoftheparts.com.au
SUMMARY:One Song Sing - Shoal Bay
DESCRIPTION:Mark and Jane return from teaching\, performing and One Song Singing in Canada and almost straight away head to the Bay.  Tickets on sale now!
URL:https://www.thesumoftheparts.com.au/event/one-song-sing-shoal-bay/
LOCATION:Shoal Bay Country Club\, 35 Shoal Bay Rd\, Shoal Bay\, NSW\, 2315\, Australia
CATEGORIES:One Song Sing
END:VEVENT
BEGIN:VEVENT
DTSTART;TZID=Australia/Melbourne:20190331T153000
DTEND;TZID=Australia/Melbourne:20190331T173000
DTSTAMP:20260420T064132
CREATED:20190308T175733Z
LAST-MODIFIED:20190308T175733Z
UID:8958-1554046200-1554053400@www.thesumoftheparts.com.au
SUMMARY:One Song Sing at the Bay!
DESCRIPTION:Join us for our first One Song Sing outside of Newcastle. We venture up to the beautiful seaside location at Shoal Bay.  Make a day of it\, swimming\, walking\, cafe-ing\, singing. Or just be a local and venture in.
URL:https://www.thesumoftheparts.com.au/event/one-song-sing-at-the-bay/
LOCATION:Shoal Bay Country Club\, 35 Shoal Bay Rd\, Shoal Bay\, NSW\, 2315\, Australia
CATEGORIES:One Song Sing
END:VEVENT
BEGIN:VEVENT
DTSTART;TZID=Australia/Melbourne:20190104T183000
DTEND;TZID=Australia/Melbourne:20190104T200000
DTSTAMP:20260420T064132
CREATED:20181212T000335Z
LAST-MODIFIED:20181212T000335Z
UID:8825-1546626600-1546632000@www.thesumoftheparts.com.au
SUMMARY:Fragile - One Song Sting
DESCRIPTION:
URL:https://www.thesumoftheparts.com.au/event/fragile-one-song-sting/
LOCATION:Newcastle Regional Library\, 15 Laman St\, Newcastle\, NSW\, 2300\, Australia
CATEGORIES:One Song Sing
END:VEVENT
BEGIN:VEVENT
DTSTART;TZID=Australia/Melbourne:20181021T161000
DTEND;TZID=Australia/Melbourne:20181021T172000
DTSTAMP:20260420T064132
CREATED:20181004T031755Z
LAST-MODIFIED:20181004T031755Z
UID:8714-1540138200-1540142400@www.thesumoftheparts.com.au
SUMMARY:One Song Sing - Somebody to Love - Newcastle City Hall
DESCRIPTION:This is BIG! Queen’s Somebody to Love. Newcastle City Hall. Just waltz in with all your friends. We want to fill the City Hall with singers. Shower singers\, commuting singers\, opera singers. Whoever! \nAND IT IS FREE!!!
URL:https://www.thesumoftheparts.com.au/event/one-song-sing-somebody-to-love-newcastle-city-hall/
LOCATION:Newcastle City Hall\, 290 King St\, Newcastle\, NSW\, 2300\, Australia
CATEGORIES:One Song Sing
END:VEVENT
BEGIN:VEVENT
DTSTART;TZID=Australia/Melbourne:20180930T170000
DTEND;TZID=Australia/Melbourne:20180930T183000
DTSTAMP:20260420T064132
CREATED:20180926T022948Z
LAST-MODIFIED:20180926T022948Z
UID:8678-1538326800-1538332200@www.thesumoftheparts.com.au
SUMMARY:One Song Sing - September - Aretha
DESCRIPTION:
URL:https://www.thesumoftheparts.com.au/event/one-song-sing-september-aretha/
LOCATION:Carrington Bowling Club\, 1c Cowper St N\, Carrington\, NSW\, 2294\, Australia
CATEGORIES:One Song Sing
END:VEVENT
BEGIN:VEVENT
DTSTART;TZID=Australia/Melbourne:20180520T160000
DTEND;TZID=Australia/Melbourne:20180520T171700
DTSTAMP:20260420T064132
CREATED:20180518T084506Z
LAST-MODIFIED:20180518T084506Z
UID:7443-1526832000-1526836620@www.thesumoftheparts.com.au
SUMMARY:One Song Sing - Never Tear Us Apart
DESCRIPTION:
URL:https://www.thesumoftheparts.com.au/event/one-song-sing-never-tear-us-apart/
LOCATION:The Edwards\, 148 Parry St\, Newcastle West\, NSW\, 2302\, Australia
CATEGORIES:One Song Sing
END:VEVENT
BEGIN:VEVENT
DTSTART;TZID=Australia/Melbourne:20171015T160000
DTEND;TZID=Australia/Melbourne:20171015T173000
DTSTAMP:20260420T064132
CREATED:20171006T082227Z
LAST-MODIFIED:20171006T082227Z
UID:5978-1508083200-1508088600@www.thesumoftheparts.com.au
SUMMARY:October One Song Sing
DESCRIPTION:Throw Your Arms Around Me – more info here. \nOne Song. One Hour (ish). 7 bucks. Youtubed.
URL:https://www.thesumoftheparts.com.au/event/october-one-song-sing/
LOCATION:The Edwards\, 148 Parry St\, Newcastle West\, NSW\, 2302\, Australia
CATEGORIES:One Song Sing
END:VEVENT
END:VCALENDAR