BEGIN:VCALENDAR
VERSION:2.0
PRODID:-//The Sum of the Parts (music) - ECPv6.15.13//NONSGML v1.0//EN
CALSCALE:GREGORIAN
METHOD:PUBLISH
X-ORIGINAL-URL:https://www.thesumoftheparts.com.au
X-WR-CALDESC:Events for The Sum of the Parts (music)
REFRESH-INTERVAL;VALUE=DURATION:PT1H
X-Robots-Tag:noindex
X-PUBLISHED-TTL:PT1H
BEGIN:VTIMEZONE
TZID:Australia/Melbourne
BEGIN:STANDARD
TZOFFSETFROM:+1100
TZOFFSETTO:+1000
TZNAME:AEST
DTSTART:20160402T160000
END:STANDARD
BEGIN:DAYLIGHT
TZOFFSETFROM:+1000
TZOFFSETTO:+1100
TZNAME:AEDT
DTSTART:20161001T160000
END:DAYLIGHT
BEGIN:STANDARD
TZOFFSETFROM:+1100
TZOFFSETTO:+1000
TZNAME:AEST
DTSTART:20170401T160000
END:STANDARD
BEGIN:DAYLIGHT
TZOFFSETFROM:+1000
TZOFFSETTO:+1100
TZNAME:AEDT
DTSTART:20170930T160000
END:DAYLIGHT
BEGIN:STANDARD
TZOFFSETFROM:+1100
TZOFFSETTO:+1000
TZNAME:AEST
DTSTART:20180331T160000
END:STANDARD
BEGIN:DAYLIGHT
TZOFFSETFROM:+1000
TZOFFSETTO:+1100
TZNAME:AEDT
DTSTART:20181006T160000
END:DAYLIGHT
BEGIN:STANDARD
TZOFFSETFROM:+1100
TZOFFSETTO:+1000
TZNAME:AEST
DTSTART:20190406T160000
END:STANDARD
BEGIN:DAYLIGHT
TZOFFSETFROM:+1000
TZOFFSETTO:+1100
TZNAME:AEDT
DTSTART:20191005T160000
END:DAYLIGHT
END:VTIMEZONE
BEGIN:VEVENT
DTSTART;VALUE=DATE:20180921
DTEND;VALUE=DATE:20180924
DTSTAMP:20260420T064151
CREATED:20180907T071049Z
LAST-MODIFIED:20180907T071235Z
UID:8506-1537488000-1537747199@www.thesumoftheparts.com.au
SUMMARY:AJ Leonard House Concerts
DESCRIPTION:House Concerts with AJ Leonard & Jenny Rowland. Support by Jack n Jel. \nFriday evening in Dudley (Newcastle/Lake Macquarie). \nSunday afternoon in Shoal Bay (Port Stephens).
URL:https://www.thesumoftheparts.com.au/event/aj-leonard-house-concerts/
CATEGORIES:Gigs
ATTACH;FMTTYPE=image/jpeg:https://www.thesumoftheparts.com.au/wp-content/uploads/2018/08/aj-jjr-tepahublog.jpg
END:VEVENT
BEGIN:VEVENT
DTSTART;TZID=Australia/Melbourne:20171112T130000
DTEND;TZID=Australia/Melbourne:20171112T183000
DTSTAMP:20260420T064151
CREATED:20171012T102804Z
LAST-MODIFIED:20171106T224847Z
UID:6051-1510491600-1510511400@www.thesumoftheparts.com.au
SUMMARY:An Arvo at the Gal with James Hill
DESCRIPTION:Click the photo or here to get more info and book. \nPresented by The Sum of the Parts (music) and Key Player Productions
URL:https://www.thesumoftheparts.com.au/event/an-arvo-at-the-gal-with-james-hill/
LOCATION:Gallipoli Legion Club\, 3 Beaumont St\, Hamilton\, NSW\, 2303\, Australia
CATEGORIES:Gigs
END:VEVENT
END:VCALENDAR