BEGIN:VCALENDAR
VERSION:2.0
PRODID:-//The Sum of the Parts (music) - ECPv6.15.13//NONSGML v1.0//EN
CALSCALE:GREGORIAN
METHOD:PUBLISH
X-WR-CALNAME:The Sum of the Parts (music)
X-ORIGINAL-URL:https://www.thesumoftheparts.com.au
X-WR-CALDESC:Events for The Sum of the Parts (music)
REFRESH-INTERVAL;VALUE=DURATION:PT1H
X-Robots-Tag:noindex
X-PUBLISHED-TTL:PT1H
BEGIN:VTIMEZONE
TZID:Australia/Melbourne
BEGIN:STANDARD
TZOFFSETFROM:+1100
TZOFFSETTO:+1000
TZNAME:AEST
DTSTART:20250405T160000
END:STANDARD
BEGIN:DAYLIGHT
TZOFFSETFROM:+1000
TZOFFSETTO:+1100
TZNAME:AEDT
DTSTART:20251004T160000
END:DAYLIGHT
BEGIN:STANDARD
TZOFFSETFROM:+1100
TZOFFSETTO:+1000
TZNAME:AEST
DTSTART:20260404T160000
END:STANDARD
BEGIN:DAYLIGHT
TZOFFSETFROM:+1000
TZOFFSETTO:+1100
TZNAME:AEDT
DTSTART:20261003T160000
END:DAYLIGHT
BEGIN:STANDARD
TZOFFSETFROM:+1100
TZOFFSETTO:+1000
TZNAME:AEST
DTSTART:20270403T160000
END:STANDARD
BEGIN:DAYLIGHT
TZOFFSETFROM:+1000
TZOFFSETTO:+1100
TZNAME:AEDT
DTSTART:20271002T160000
END:DAYLIGHT
END:VTIMEZONE
BEGIN:VEVENT
DTSTART;TZID=Australia/Melbourne:20260104T100000
DTEND;TZID=Australia/Melbourne:20260104T120000
DTSTAMP:20260420T130546
CREATED:20231231T170216Z
LAST-MODIFIED:20251221T202127Z
UID:15454-1767520800-1767528000@www.thesumoftheparts.com.au
SUMMARY:Beginners Ukulele Workshop
DESCRIPTION:Please register here.
URL:https://www.thesumoftheparts.com.au/event/beginners-ukulele-workshop-30/
LOCATION:Carrington Bowling Club\, 1c Cowper St N\, Carrington\, NSW\, 2294\, Australia
CATEGORIES:Beginners Workshops
END:VEVENT
END:VCALENDAR